BEGIN:VCALENDAR
VERSION:2.0
PRODID:-//RWJBarnabas Health Hockey House - ECPv4.2.1//NONSGML v1.0//EN
CALSCALE:GREGORIAN
METHOD:PUBLISH
X-WR-CALNAME:RWJBarnabas Health Hockey House
X-ORIGINAL-URL:http://barnabashealthhockeyhouse.com
X-WR-CALDESC:Events for RWJBarnabas Health Hockey House
BEGIN:VEVENT
DTSTART;TZID=America/New_York:20170707T060000
DTEND;TZID=America/New_York:20170707T084500
DTSTAMP:20260426T015206
CREATED:20170627T230526
LAST-MODIFIED:20170627T230526
UID:2743-1499407200-1499417100@barnabashealthhockeyhouse.com
SUMMARY:Available Ice
DESCRIPTION:
URL:http://barnabashealthhockeyhouse.com/event/available-ice-244/
END:VEVENT
BEGIN:VEVENT
DTSTART;TZID=America/New_York:20170707T101500
DTEND;TZID=America/New_York:20170707T134500
DTSTAMP:20260426T015206
CREATED:20170627T230616
LAST-MODIFIED:20170627T230616
UID:2744-1499422500-1499435100@barnabashealthhockeyhouse.com
SUMMARY:Available Ice
DESCRIPTION:
URL:http://barnabashealthhockeyhouse.com/event/available-ice-245/
END:VEVENT
BEGIN:VEVENT
DTSTART;TZID=America/New_York:20170707T124500
DTEND;TZID=America/New_York:20170707T134500
DTSTAMP:20260426T015206
CREATED:20170626T222157
LAST-MODIFIED:20170626T222157
UID:2735-1499431500-1499435100@barnabashealthhockeyhouse.com
SUMMARY:Skate & Shoot
DESCRIPTION:
URL:http://barnabashealthhockeyhouse.com/event/skate-shoot-119/
END:VEVENT
BEGIN:VEVENT
DTSTART;TZID=America/New_York:20170707T154500
DTEND;TZID=America/New_York:20170707T234500
DTSTAMP:20260426T015206
CREATED:20170627T230730
LAST-MODIFIED:20170627T230730
UID:2745-1499442300-1499471100@barnabashealthhockeyhouse.com
SUMMARY:Available Ice
DESCRIPTION:
URL:http://barnabashealthhockeyhouse.com/event/available-ice-246/
END:VEVENT
END:VCALENDAR