BEGIN:VCALENDAR
VERSION:2.0
PRODID:-//RWJBarnabas Health Hockey House - ECPv4.2.1//NONSGML v1.0//EN
CALSCALE:GREGORIAN
METHOD:PUBLISH
X-WR-CALNAME:RWJBarnabas Health Hockey House
X-ORIGINAL-URL:http://barnabashealthhockeyhouse.com
X-WR-CALDESC:Events for RWJBarnabas Health Hockey House
BEGIN:VEVENT
DTSTART;TZID=America/New_York:20170706T061500
DTEND;TZID=America/New_York:20170706T193000
DTSTAMP:20260426T015811
CREATED:20170627T230154
LAST-MODIFIED:20170627T230154
UID:2740-1499321700-1499369400@barnabashealthhockeyhouse.com
SUMMARY:Available Ice
DESCRIPTION:
URL:http://barnabashealthhockeyhouse.com/event/available-ice-241/
END:VEVENT
BEGIN:VEVENT
DTSTART;TZID=America/New_York:20170706T113000
DTEND;TZID=America/New_York:20170706T134500
DTSTAMP:20260426T015811
CREATED:20170627T230233
LAST-MODIFIED:20170627T230233
UID:2741-1499340600-1499348700@barnabashealthhockeyhouse.com
SUMMARY:Available Ice
DESCRIPTION:
URL:http://barnabashealthhockeyhouse.com/event/available-ice-242/
END:VEVENT
BEGIN:VEVENT
DTSTART;TZID=America/New_York:20170706T154500
DTEND;TZID=America/New_York:20170706T174500
DTSTAMP:20260426T015811
CREATED:20170627T230318
LAST-MODIFIED:20170627T230318
UID:2742-1499355900-1499363100@barnabashealthhockeyhouse.com
SUMMARY:Available Ice
DESCRIPTION:
URL:http://barnabashealthhockeyhouse.com/event/available-ice-243/
END:VEVENT
BEGIN:VEVENT
DTSTART;TZID=America/New_York:20170706T164500
DTEND;TZID=America/New_York:20170706T174500
DTSTAMP:20260426T015811
CREATED:20170626T222120
LAST-MODIFIED:20170626T222120
UID:2734-1499359500-1499363100@barnabashealthhockeyhouse.com
SUMMARY:Skate & Shoot
DESCRIPTION:
URL:http://barnabashealthhockeyhouse.com/event/skate-shoot-118/
END:VEVENT
END:VCALENDAR