BEGIN:VCALENDAR
VERSION:2.0
PRODID:-//RWJBarnabas Health Hockey House - ECPv4.2.1//NONSGML v1.0//EN
CALSCALE:GREGORIAN
METHOD:PUBLISH
X-WR-CALNAME:RWJBarnabas Health Hockey House
X-ORIGINAL-URL:http://barnabashealthhockeyhouse.com
X-WR-CALDESC:Events for RWJBarnabas Health Hockey House
BEGIN:VEVENT
DTSTART;TZID=America/New_York:20170629T060000
DTEND;TZID=America/New_York:20170629T084500
DTSTAMP:20260426T032001
CREATED:20170531T014925
LAST-MODIFIED:20170531T014925
UID:2683-1498716000-1498725900@barnabashealthhockeyhouse.com
SUMMARY:Available Ice
DESCRIPTION:
URL:http://barnabashealthhockeyhouse.com/event/available-ice-234/
END:VEVENT
BEGIN:VEVENT
DTSTART;TZID=America/New_York:20170629T104500
DTEND;TZID=America/New_York:20170629T164500
DTSTAMP:20260426T032001
CREATED:20170531T015001
LAST-MODIFIED:20170531T015001
UID:2684-1498733100-1498754700@barnabashealthhockeyhouse.com
SUMMARY:Available Ice
DESCRIPTION:
URL:http://barnabashealthhockeyhouse.com/event/available-ice-235/
END:VEVENT
BEGIN:VEVENT
DTSTART;TZID=America/New_York:20170629T150000
DTEND;TZID=America/New_York:20170629T160000
DTSTAMP:20260426T032001
CREATED:20170531T020026
LAST-MODIFIED:20170531T020026
UID:2700-1498748400-1498752000@barnabashealthhockeyhouse.com
SUMMARY:Skate & Shoot
DESCRIPTION:
URL:http://barnabashealthhockeyhouse.com/event/skate-shoot-115/
END:VEVENT
END:VCALENDAR