BEGIN:VCALENDAR
VERSION:2.0
PRODID:-//RWJBarnabas Health Hockey House - ECPv4.2.1//NONSGML v1.0//EN
CALSCALE:GREGORIAN
METHOD:PUBLISH
X-WR-CALNAME:RWJBarnabas Health Hockey House
X-ORIGINAL-URL:http://barnabashealthhockeyhouse.com
X-WR-CALDESC:Events for RWJBarnabas Health Hockey House
BEGIN:VEVENT
DTSTART;TZID=America/New_York:20170627T060000
DTEND;TZID=America/New_York:20170627T084500
DTSTAMP:20260426T015810
CREATED:20170531T014439
LAST-MODIFIED:20170531T014439
UID:2678-1498543200-1498553100@barnabashealthhockeyhouse.com
SUMMARY:Available Ice
DESCRIPTION:
URL:http://barnabashealthhockeyhouse.com/event/available-ice-229/
END:VEVENT
BEGIN:VEVENT
DTSTART;TZID=America/New_York:20170627T104500
DTEND;TZID=America/New_York:20170627T154500
DTSTAMP:20260426T015810
CREATED:20170531T014513
LAST-MODIFIED:20170531T014513
UID:2679-1498560300-1498578300@barnabashealthhockeyhouse.com
SUMMARY:Available Ice
DESCRIPTION:
URL:http://barnabashealthhockeyhouse.com/event/available-ice-230/
END:VEVENT
BEGIN:VEVENT
DTSTART;TZID=America/New_York:20170627T150000
DTEND;TZID=America/New_York:20170627T160000
DTSTAMP:20260426T015810
CREATED:20170531T015932
LAST-MODIFIED:20170531T015932
UID:2698-1498575600-1498579200@barnabashealthhockeyhouse.com
SUMMARY:Skate & Shoot
DESCRIPTION:
URL:http://barnabashealthhockeyhouse.com/event/skate-shoot-113/
END:VEVENT
BEGIN:VEVENT
DTSTART;TZID=America/New_York:20170627T223000
DTEND;TZID=America/New_York:20170627T234500
DTSTAMP:20260426T015810
CREATED:20170531T014553
LAST-MODIFIED:20170531T014553
UID:2680-1498602600-1498607100@barnabashealthhockeyhouse.com
SUMMARY:Available Ice
DESCRIPTION:
URL:http://barnabashealthhockeyhouse.com/event/available-ice-231/
END:VEVENT
END:VCALENDAR