BEGIN:VCALENDAR
VERSION:2.0
PRODID:-//RWJBarnabas Health Hockey House - ECPv4.2.1//NONSGML v1.0//EN
CALSCALE:GREGORIAN
METHOD:PUBLISH
X-WR-CALNAME:RWJBarnabas Health Hockey House
X-ORIGINAL-URL:http://barnabashealthhockeyhouse.com
X-WR-CALDESC:Events for RWJBarnabas Health Hockey House
BEGIN:VEVENT
DTSTART;TZID=America/New_York:20170602T061500
DTEND;TZID=America/New_York:20170602T084500
DTSTAMP:20260426T031931
CREATED:20170531T002041
LAST-MODIFIED:20170531T002041
UID:2630-1496384100-1496393100@barnabashealthhockeyhouse.com
SUMMARY:Available Ice
DESCRIPTION:
URL:http://barnabashealthhockeyhouse.com/event/available-ice-184/
END:VEVENT
BEGIN:VEVENT
DTSTART;TZID=America/New_York:20170602T101500
DTEND;TZID=America/New_York:20170602T181500
DTSTAMP:20260426T031931
CREATED:20170531T002149
LAST-MODIFIED:20170531T002149
UID:2631-1496398500-1496427300@barnabashealthhockeyhouse.com
SUMMARY:Available Ice
DESCRIPTION:
URL:http://barnabashealthhockeyhouse.com/event/available-ice-185/
END:VEVENT
BEGIN:VEVENT
DTSTART;TZID=America/New_York:20170602T150000
DTEND;TZID=America/New_York:20170602T160000
DTSTAMP:20260426T031931
CREATED:20170531T002759
LAST-MODIFIED:20170531T002759
UID:2636-1496415600-1496419200@barnabashealthhockeyhouse.com
SUMMARY:Skate & Shoot
DESCRIPTION:
URL:http://barnabashealthhockeyhouse.com/event/skate-shoot-102/
END:VEVENT
BEGIN:VEVENT
DTSTART;TZID=America/New_York:20170602T194500
DTEND;TZID=America/New_York:20170602T204500
DTSTAMP:20260426T031931
CREATED:20170531T002249
LAST-MODIFIED:20170531T002249
UID:2632-1496432700-1496436300@barnabashealthhockeyhouse.com
SUMMARY:Available Ice
DESCRIPTION:
URL:http://barnabashealthhockeyhouse.com/event/available-ice-186/
END:VEVENT
END:VCALENDAR