BEGIN:VCALENDAR
VERSION:2.0
PRODID:-//RWJBarnabas Health Hockey House - ECPv4.2.1//NONSGML v1.0//EN
CALSCALE:GREGORIAN
METHOD:PUBLISH
X-WR-CALNAME:RWJBarnabas Health Hockey House
X-ORIGINAL-URL:http://barnabashealthhockeyhouse.com
X-WR-CALDESC:Events for RWJBarnabas Health Hockey House
BEGIN:VEVENT
DTSTART;TZID=America/New_York:20191006T120000
DTEND;TZID=America/New_York:20191006T130000
DTSTAMP:20260422T140455
CREATED:20191004T200157
LAST-MODIFIED:20191004T200157
UID:3486-1570363200-1570366800@barnabashealthhockeyhouse.com
SUMMARY:World Girls Hockey Weekend
DESCRIPTION:
URL:http://barnabashealthhockeyhouse.com/event/world-girls-hockey-weekend-3/
END:VEVENT
END:VCALENDAR