BEGIN:VCALENDAR
VERSION:2.0
PRODID:-//RWJBarnabas Health Hockey House - ECPv4.2.1//NONSGML v1.0//EN
CALSCALE:GREGORIAN
METHOD:PUBLISH
X-WR-CALNAME:RWJBarnabas Health Hockey House
X-ORIGINAL-URL:http://barnabashealthhockeyhouse.com
X-WR-CALDESC:Events for RWJBarnabas Health Hockey House
BEGIN:VEVENT
DTSTART;TZID=America/New_York:20180210T203000
DTEND;TZID=America/New_York:20180210T230000
DTSTAMP:20260425T155138
CREATED:20180130T204302
LAST-MODIFIED:20180130T204302
UID:2948-1518294600-1518303600@barnabashealthhockeyhouse.com
SUMMARY:Stevens IT Game
DESCRIPTION:
URL:http://barnabashealthhockeyhouse.com/event/stevens-it-game-2/
END:VEVENT
END:VCALENDAR