BEGIN:VCALENDAR
VERSION:2.0
PRODID:-//RWJBarnabas Health Hockey House - ECPv4.2.1//NONSGML v1.0//EN
CALSCALE:GREGORIAN
METHOD:PUBLISH
X-WR-CALNAME:RWJBarnabas Health Hockey House
X-ORIGINAL-URL:http://barnabashealthhockeyhouse.com
X-WR-CALDESC:Events for RWJBarnabas Health Hockey House
BEGIN:VEVENT
DTSTART;TZID=America/New_York:20170920T163000
DTEND;TZID=America/New_York:20170920T173000
DTSTAMP:20260425T230254
CREATED:20170918T235727
LAST-MODIFIED:20170918T235727
UID:2875-1505925000-1505928600@barnabashealthhockeyhouse.com
SUMMARY:Skate & Shoot Session
DESCRIPTION:
URL:http://barnabashealthhockeyhouse.com/event/skate-shoot-session/
END:VEVENT
END:VCALENDAR