BEGIN:VCALENDAR
VERSION:2.0
PRODID:-//RWJBarnabas Health Hockey House - ECPv4.2.1//NONSGML v1.0//EN
CALSCALE:GREGORIAN
METHOD:PUBLISH
X-WR-CALNAME:RWJBarnabas Health Hockey House
X-ORIGINAL-URL:http://barnabashealthhockeyhouse.com
X-WR-CALDESC:Events for RWJBarnabas Health Hockey House
BEGIN:VEVENT
DTSTART;TZID=America/New_York:20171005T163000
DTEND;TZID=America/New_York:20171005T173000
DTSTAMP:20260425T225813
CREATED:20170918T235938
LAST-MODIFIED:20170918T235938
UID:2879-1507221000-1507224600@barnabashealthhockeyhouse.com
SUMMARY:Skate & Shoot Session
DESCRIPTION:
URL:http://barnabashealthhockeyhouse.com/event/skate-shoot-session-5/
END:VEVENT
END:VCALENDAR