BEGIN:VCALENDAR
VERSION:2.0
PRODID:-//RWJBarnabas Health Hockey House - ECPv4.2.1//NONSGML v1.0//EN
CALSCALE:GREGORIAN
METHOD:PUBLISH
X-WR-CALNAME:RWJBarnabas Health Hockey House
X-ORIGINAL-URL:http://barnabashealthhockeyhouse.com
X-WR-CALDESC:Events for RWJBarnabas Health Hockey House
BEGIN:VEVENT
DTSTART;TZID=America/New_York:20171031T163000
DTEND;TZID=America/New_York:20171031T173000
DTSTAMP:20260425T201759
CREATED:20170919T001003
LAST-MODIFIED:20170919T001003
UID:2886-1509467400-1509471000@barnabashealthhockeyhouse.com
SUMMARY:Skate & Shoot Session
DESCRIPTION:
URL:http://barnabashealthhockeyhouse.com/event/skate-shoot-session-12/
END:VEVENT
END:VCALENDAR