BEGIN:VCALENDAR
VERSION:2.0
PRODID:-//RWJBarnabas Health Hockey House - ECPv4.2.1//NONSGML v1.0//EN
CALSCALE:GREGORIAN
METHOD:PUBLISH
X-WR-CALNAME:RWJBarnabas Health Hockey House
X-ORIGINAL-URL:http://barnabashealthhockeyhouse.com
X-WR-CALDESC:Events for RWJBarnabas Health Hockey House
BEGIN:VEVENT
DTSTART;TZID=America/New_York:20191213T163000
DTEND;TZID=America/New_York:20191213T173000
DTSTAMP:20260422T080348
CREATED:20191211T232349
LAST-MODIFIED:20191211T232349
UID:3494-1576254600-1576258200@barnabashealthhockeyhouse.com
SUMMARY:Skate & Shoot
DESCRIPTION:
URL:http://barnabashealthhockeyhouse.com/event/skate-shoot-180/
END:VEVENT
END:VCALENDAR