BEGIN:VCALENDAR
VERSION:2.0
PRODID:-//RWJBarnabas Health Hockey House - ECPv4.2.1//NONSGML v1.0//EN
CALSCALE:GREGORIAN
METHOD:PUBLISH
X-WR-CALNAME:RWJBarnabas Health Hockey House
X-ORIGINAL-URL:http://barnabashealthhockeyhouse.com
X-WR-CALDESC:Events for RWJBarnabas Health Hockey House
BEGIN:VEVENT
DTSTART;TZID=America/New_York:20191004T163000
DTEND;TZID=America/New_York:20191004T173000
DTSTAMP:20260422T123930
CREATED:20191003T185912
LAST-MODIFIED:20191003T185912
UID:3480-1570206600-1570210200@barnabashealthhockeyhouse.com
SUMMARY:Skate & Shoot
DESCRIPTION:
URL:http://barnabashealthhockeyhouse.com/event/skate-shoot-175/
END:VEVENT
END:VCALENDAR