BEGIN:VCALENDAR
VERSION:2.0
PRODID:-//RWJBarnabas Health Hockey House - ECPv4.2.1//NONSGML v1.0//EN
CALSCALE:GREGORIAN
METHOD:PUBLISH
X-WR-CALNAME:RWJBarnabas Health Hockey House
X-ORIGINAL-URL:http://barnabashealthhockeyhouse.com
X-WR-CALDESC:Events for RWJBarnabas Health Hockey House
BEGIN:VEVENT
DTSTART;TZID=America/New_York:20190619T161500
DTEND;TZID=America/New_York:20190619T171500
DTSTAMP:20260422T170719
CREATED:20190509T195236
LAST-MODIFIED:20190509T195236
UID:3327-1560960900-1560964500@barnabashealthhockeyhouse.com
SUMMARY:Skate & Shoot
DESCRIPTION:
URL:http://barnabashealthhockeyhouse.com/event/skate-shoot-169/
END:VEVENT
END:VCALENDAR