BEGIN:VCALENDAR
VERSION:2.0
PRODID:-//RWJBarnabas Health Hockey House - ECPv4.2.1//NONSGML v1.0//EN
CALSCALE:GREGORIAN
METHOD:PUBLISH
X-WR-CALNAME:RWJBarnabas Health Hockey House
X-ORIGINAL-URL:http://barnabashealthhockeyhouse.com
X-WR-CALDESC:Events for RWJBarnabas Health Hockey House
BEGIN:VEVENT
DTSTART;TZID=America/New_York:20171118T114500
DTEND;TZID=America/New_York:20171118T131500
DTSTAMP:20260425T201734
CREATED:20171118T021913
LAST-MODIFIED:20171118T021913
UID:2905-1511005500-1511010900@barnabashealthhockeyhouse.com
SUMMARY:Skate & Shoot
DESCRIPTION:Receive 2 FREE tickets to the Devils vs Panthers game on the 27th if you attend this session!
URL:http://barnabashealthhockeyhouse.com/event/skate-shoot-122/
END:VEVENT
END:VCALENDAR