BEGIN:VCALENDAR
VERSION:2.0
PRODID:-//RWJBarnabas Health Hockey House - ECPv4.2.1//NONSGML v1.0//EN
CALSCALE:GREGORIAN
METHOD:PUBLISH
X-WR-CALNAME:RWJBarnabas Health Hockey House
X-ORIGINAL-URL:http://barnabashealthhockeyhouse.com
X-WR-CALDESC:Events for RWJBarnabas Health Hockey House
BEGIN:VEVENT
DTSTART;VALUE=DATE:20170717
DTEND;VALUE=DATE:20170723
DTSTAMP:20260426T015820
CREATED:20170628
LAST-MODIFIED:20170628
UID:2752-1500249600-1500854399@barnabashealthhockeyhouse.com
SUMMARY:Rink Closed
DESCRIPTION:
URL:http://barnabashealthhockeyhouse.com/event/rink-closed/
END:VEVENT
END:VCALENDAR