BEGIN:VCALENDAR
VERSION:2.0
PRODID:-//RWJBarnabas Health Hockey House - ECPv4.2.1//NONSGML v1.0//EN
CALSCALE:GREGORIAN
METHOD:PUBLISH
X-WR-CALNAME:RWJBarnabas Health Hockey House
X-ORIGINAL-URL:http://barnabashealthhockeyhouse.com
X-WR-CALDESC:Events for RWJBarnabas Health Hockey House
BEGIN:VEVENT
DTSTART;TZID=America/New_York:20180211T203000
DTEND;TZID=America/New_York:20180211T230000
DTSTAMP:20260425T160141
CREATED:20180130T204413
LAST-MODIFIED:20180130T204413
UID:2950-1518381000-1518390000@barnabashealthhockeyhouse.com
SUMMARY:NJIT Game
DESCRIPTION:
URL:http://barnabashealthhockeyhouse.com/event/njit-game-2/
END:VEVENT
END:VCALENDAR