BEGIN:VCALENDAR
VERSION:2.0
PRODID:-//RWJBarnabas Health Hockey House - ECPv4.2.1//NONSGML v1.0//EN
CALSCALE:GREGORIAN
METHOD:PUBLISH
X-WR-CALNAME:RWJBarnabas Health Hockey House
X-ORIGINAL-URL:http://barnabashealthhockeyhouse.com
X-WR-CALDESC:Events for RWJBarnabas Health Hockey House
BEGIN:VEVENT
DTSTART;TZID=America/New_York:20170616T170000
DTEND;TZID=America/New_York:20170616T220000
DTSTAMP:20260426T032224
CREATED:20170612T224710
LAST-MODIFIED:20170612T224710
UID:2725-1497632400-1497650400@barnabashealthhockeyhouse.com
SUMMARY:Mikey Strong Tournament
DESCRIPTION:
URL:http://barnabashealthhockeyhouse.com/event/mikey-strong-tournament-2/
END:VEVENT
END:VCALENDAR