BEGIN:VCALENDAR
VERSION:2.0
PRODID:-//RWJBarnabas Health Hockey House - ECPv4.2.1//NONSGML v1.0//EN
CALSCALE:GREGORIAN
METHOD:PUBLISH
X-WR-CALNAME:RWJBarnabas Health Hockey House
X-ORIGINAL-URL:http://barnabashealthhockeyhouse.com
X-WR-CALDESC:Events for RWJBarnabas Health Hockey House
BEGIN:VEVENT
DTSTART;TZID=America/New_York:20181021T150000
DTEND;TZID=America/New_York:20181021T180000
DTSTAMP:20260423T050353
CREATED:20180914T195652
LAST-MODIFIED:20180914T195652
UID:3216-1540134000-1540144800@barnabashealthhockeyhouse.com
SUMMARY:Metropolitan Riveters vs. Minnesota Whitecaps
DESCRIPTION:Doors open at 2:00pm
URL:http://barnabashealthhockeyhouse.com/event/metropolitan-riveters-vs-minnesota-whitecaps-2/
END:VEVENT
END:VCALENDAR