BEGIN:VCALENDAR
VERSION:2.0
PRODID:-//RWJBarnabas Health Hockey House - ECPv4.2.1//NONSGML v1.0//EN
CALSCALE:GREGORIAN
METHOD:PUBLISH
X-WR-CALNAME:RWJBarnabas Health Hockey House
X-ORIGINAL-URL:http://barnabashealthhockeyhouse.com
X-WR-CALDESC:Events for RWJBarnabas Health Hockey House
BEGIN:VEVENT
DTSTART;TZID=America/New_York:20180318T190000
DTEND;TZID=America/New_York:20180318T220000
DTSTAMP:20260425T144001
CREATED:20180314T174457
LAST-MODIFIED:20180314T174457
UID:2973-1521399600-1521410400@barnabashealthhockeyhouse.com
SUMMARY:Metropolitan Riveters vs. Connecticut Whale - PLAYOFF ROUND 1
DESCRIPTION:
URL:http://barnabashealthhockeyhouse.com/event/metropolitan-riveters-vs-connecticut-whale-playoff-round-1/
END:VEVENT
END:VCALENDAR