BEGIN:VCALENDAR
VERSION:2.0
PRODID:-//RWJBarnabas Health Hockey House - ECPv4.2.1//NONSGML v1.0//EN
CALSCALE:GREGORIAN
METHOD:PUBLISH
X-WR-CALNAME:RWJBarnabas Health Hockey House
X-ORIGINAL-URL:http://barnabashealthhockeyhouse.com
X-WR-CALDESC:Events for RWJBarnabas Health Hockey House
BEGIN:VEVENT
DTSTART;TZID=America/New_York:20181209T140000
DTEND;TZID=America/New_York:20181209T170000
DTSTAMP:20260423T025021
CREATED:20181206T001728
LAST-MODIFIED:20181206T001728
UID:3257-1544364000-1544374800@barnabashealthhockeyhouse.com
SUMMARY:Metropolitan Riveters vs. Boston Pride
DESCRIPTION:Doors open at 1pm
URL:http://barnabashealthhockeyhouse.com/event/metropolitan-riveters-vs-boston-pride-2/
END:VEVENT
END:VCALENDAR