BEGIN:VCALENDAR
VERSION:2.0
PRODID:-//RWJBarnabas Health Hockey House - ECPv4.2.1//NONSGML v1.0//EN
CALSCALE:GREGORIAN
METHOD:PUBLISH
X-WR-CALNAME:RWJBarnabas Health Hockey House
X-ORIGINAL-URL:http://barnabashealthhockeyhouse.com
X-WR-CALDESC:Events for RWJBarnabas Health Hockey House
BEGIN:VEVENT
DTSTART;TZID=America/New_York:20180224T121500
DTEND;TZID=America/New_York:20180224T131500
DTSTAMP:20260425T174243
CREATED:20180221T183735
LAST-MODIFIED:20180221T183735
UID:2968-1519474500-1519478100@barnabashealthhockeyhouse.com
SUMMARY:Metropolitan Riveters & Dunkin Donuts  Clinic
DESCRIPTION:
URL:http://barnabashealthhockeyhouse.com/event/metropolitan-riveters-dunkin-donuts-clinic/
END:VEVENT
END:VCALENDAR