BEGIN:VCALENDAR
VERSION:2.0
PRODID:-//RWJBarnabas Health Hockey House - ECPv4.2.1//NONSGML v1.0//EN
CALSCALE:GREGORIAN
METHOD:PUBLISH
X-WR-CALNAME:RWJBarnabas Health Hockey House
X-ORIGINAL-URL:http://barnabashealthhockeyhouse.com
X-WR-CALDESC:Events for RWJBarnabas Health Hockey House
BEGIN:VEVENT
DTSTART;TZID=America/New_York:20180303T110000
DTEND;TZID=America/New_York:20180303T114500
DTSTAMP:20260425T143834
CREATED:20180130T204754
LAST-MODIFIED:20180130T204809
UID:2954-1520074800-1520077500@barnabashealthhockeyhouse.com
SUMMARY:Learn to Play Clinic
DESCRIPTION:
URL:http://barnabashealthhockeyhouse.com/event/learn-to-play-clinic-4/
END:VEVENT
END:VCALENDAR