BEGIN:VCALENDAR
VERSION:2.0
PRODID:-//RWJBarnabas Health Hockey House - ECPv4.2.1//NONSGML v1.0//EN
CALSCALE:GREGORIAN
METHOD:PUBLISH
X-WR-CALNAME:RWJBarnabas Health Hockey House
X-ORIGINAL-URL:http://barnabashealthhockeyhouse.com
X-WR-CALDESC:Events for RWJBarnabas Health Hockey House
BEGIN:VEVENT
DTSTART;TZID=America/New_York:20180224T111500
DTEND;TZID=America/New_York:20180224T120000
DTSTAMP:20260425T161147
CREATED:20180130T204611
LAST-MODIFIED:20180130T204611
UID:2952-1519470900-1519473600@barnabashealthhockeyhouse.com
SUMMARY:Learn to Play Clinic
DESCRIPTION:
URL:http://barnabashealthhockeyhouse.com/event/learn-to-play-clinic-3/
END:VEVENT
END:VCALENDAR