BEGIN:VCALENDAR
VERSION:2.0
PRODID:-//RWJBarnabas Health Hockey House - ECPv4.2.1//NONSGML v1.0//EN
CALSCALE:GREGORIAN
METHOD:PUBLISH
X-WR-CALNAME:RWJBarnabas Health Hockey House
X-ORIGINAL-URL:http://barnabashealthhockeyhouse.com
X-WR-CALDESC:Events for RWJBarnabas Health Hockey House
BEGIN:VEVENT
DTSTART;TZID=America/New_York:20180317T161500
DTEND;TZID=America/New_York:20180317T171500
DTSTAMP:20260425T155005
CREATED:20180314T174853
LAST-MODIFIED:20180314T174853
UID:2976-1521303300-1521306900@barnabashealthhockeyhouse.com
SUMMARY:Learn to Play
DESCRIPTION:
URL:http://barnabashealthhockeyhouse.com/event/learn-to-play-2/
END:VEVENT
END:VCALENDAR