BEGIN:VCALENDAR
VERSION:2.0
PRODID:-//RWJBarnabas Health Hockey House - ECPv4.2.1//NONSGML v1.0//EN
CALSCALE:GREGORIAN
METHOD:PUBLISH
X-WR-CALNAME:RWJBarnabas Health Hockey House
X-ORIGINAL-URL:http://barnabashealthhockeyhouse.com
X-WR-CALDESC:Events for RWJBarnabas Health Hockey House
BEGIN:VEVENT
DTSTART;TZID=America/New_York:20170731T180000
DTEND;TZID=America/New_York:20170731T214500
DTSTAMP:20260426T002312
CREATED:20170628T003605
LAST-MODIFIED:20170628T003605
UID:2761-1501524000-1501537500@barnabashealthhockeyhouse.com
SUMMARY:Available Ice
DESCRIPTION:
URL:http://barnabashealthhockeyhouse.com/event/available-ice-260/
END:VEVENT
END:VCALENDAR