BEGIN:VCALENDAR
VERSION:2.0
PRODID:-//RWJBarnabas Health Hockey House - ECPv4.2.1//NONSGML v1.0//EN
CALSCALE:GREGORIAN
METHOD:PUBLISH
X-WR-CALNAME:RWJBarnabas Health Hockey House
X-ORIGINAL-URL:http://barnabashealthhockeyhouse.com
X-WR-CALDESC:Events for RWJBarnabas Health Hockey House
BEGIN:VEVENT
DTSTART;TZID=America/New_York:20170731T060000
DTEND;TZID=America/New_York:20170731T084500
DTSTAMP:20260426T002304
CREATED:20170628T003540
LAST-MODIFIED:20170628T003540
UID:2760-1501480800-1501490700@barnabashealthhockeyhouse.com
SUMMARY:Available Ice
DESCRIPTION:
URL:http://barnabashealthhockeyhouse.com/event/available-ice-259/
END:VEVENT
END:VCALENDAR