BEGIN:VCALENDAR
VERSION:2.0
PRODID:-//RWJBarnabas Health Hockey House - ECPv4.2.1//NONSGML v1.0//EN
CALSCALE:GREGORIAN
METHOD:PUBLISH
X-WR-CALNAME:RWJBarnabas Health Hockey House
X-ORIGINAL-URL:http://barnabashealthhockeyhouse.com
X-WR-CALDESC:Events for RWJBarnabas Health Hockey House
BEGIN:VEVENT
DTSTART;TZID=America/New_York:20170628T060000
DTEND;TZID=America/New_York:20170628T084500
DTSTAMP:20260426T031854
CREATED:20170531T014716
LAST-MODIFIED:20170531T014716
UID:2681-1498629600-1498639500@barnabashealthhockeyhouse.com
SUMMARY:Available Ice
DESCRIPTION:
URL:http://barnabashealthhockeyhouse.com/event/available-ice-232/
END:VEVENT
END:VCALENDAR