BEGIN:VCALENDAR
VERSION:2.0
PRODID:-//RWJBarnabas Health Hockey House - ECPv4.2.1//NONSGML v1.0//EN
CALSCALE:GREGORIAN
METHOD:PUBLISH
X-WR-CALNAME:RWJBarnabas Health Hockey House
X-ORIGINAL-URL:http://barnabashealthhockeyhouse.com
X-WR-CALDESC:Events for RWJBarnabas Health Hockey House
BEGIN:VEVENT
DTSTART;TZID=America/New_York:20170625T060000
DTEND;TZID=America/New_York:20170625T184500
DTSTAMP:20260426T031956
CREATED:20170531T013602
LAST-MODIFIED:20170531T013602
UID:2675-1498370400-1498416300@barnabashealthhockeyhouse.com
SUMMARY:Available Ice
DESCRIPTION:
URL:http://barnabashealthhockeyhouse.com/event/available-ice-226/
END:VEVENT
END:VCALENDAR