BEGIN:VCALENDAR
VERSION:2.0
PRODID:-//RWJBarnabas Health Hockey House - ECPv4.2.1//NONSGML v1.0//EN
CALSCALE:GREGORIAN
METHOD:PUBLISH
X-WR-CALNAME:RWJBarnabas Health Hockey House
X-ORIGINAL-URL:http://barnabashealthhockeyhouse.com
X-WR-CALDESC:Events for RWJBarnabas Health Hockey House
BEGIN:VEVENT
DTSTART;TZID=America/New_York:20170507T160000
DTEND;TZID=America/New_York:20170507T184500
DTSTAMP:20260426T040705
CREATED:20170429T160617
LAST-MODIFIED:20170429T160617
UID:2546-1494172800-1494182700@barnabashealthhockeyhouse.com
SUMMARY:Available Ice
DESCRIPTION:
URL:http://barnabashealthhockeyhouse.com/event/available-ice-145/
END:VEVENT
END:VCALENDAR