BEGIN:VCALENDAR
VERSION:2.0
PRODID:-//RWJBarnabas Health Hockey House - ECPv4.2.1//NONSGML v1.0//EN
CALSCALE:GREGORIAN
METHOD:PUBLISH
X-WR-CALNAME:RWJBarnabas Health Hockey House
X-ORIGINAL-URL:http://barnabashealthhockeyhouse.com
X-WR-CALDESC:Events for RWJBarnabas Health Hockey House
BEGIN:VEVENT
DTSTART;TZID=America/New_York:20171125T093000
DTEND;TZID=America/New_York:20171125T230000
DTSTAMP:20260425T201959
CREATED:20171111T212846
LAST-MODIFIED:20171111T212846
UID:2899-1511602200-1511650800@barnabashealthhockeyhouse.com
SUMMARY:Adult 3v3 Tournament
DESCRIPTION:Contact Jason Verrico at jverrico@prucenter.com for more information and to register your team today!
URL:http://barnabashealthhockeyhouse.com/event/adult-3v3-tournament/
END:VEVENT
END:VCALENDAR