BEGIN:VCALENDAR
VERSION:2.0
PRODID:-//RWJBarnabas Health Hockey House - ECPv4.2.1//NONSGML v1.0//EN
CALSCALE:GREGORIAN
METHOD:PUBLISH
X-WR-CALNAME:RWJBarnabas Health Hockey House
X-ORIGINAL-URL:http://barnabashealthhockeyhouse.com
X-WR-CALDESC:Events for RWJBarnabas Health Hockey House
BEGIN:VEVENT
DTSTART;TZID=America/New_York:20171104T151500
DTEND;TZID=America/New_York:20171104T191500
DTSTAMP:20260425T203146
CREATED:20171111T220147
LAST-MODIFIED:20171111T220147
UID:2901-1509808500-1509822900@barnabashealthhockeyhouse.com
SUMMARY:AAHA Midget District Tournament
DESCRIPTION:
URL:http://barnabashealthhockeyhouse.com/event/aaha-midget-district-tournament-2/
END:VEVENT
END:VCALENDAR